BEGIN:VCALENDAR
VERSION:2.0
PRODID:-//CK Domstadt Hotels - ECPv6.14.2//NONSGML v1.0//EN
CALSCALE:GREGORIAN
METHOD:PUBLISH
X-ORIGINAL-URL:https://ck-domstadt-hotels.de
X-WR-CALDESC:Veranstaltungen für CK Domstadt Hotels
REFRESH-INTERVAL;VALUE=DURATION:PT1H
X-Robots-Tag:noindex
X-PUBLISHED-TTL:PT1H
BEGIN:VTIMEZONE
TZID:Europe/Berlin
BEGIN:DAYLIGHT
TZOFFSETFROM:+0100
TZOFFSETTO:+0200
TZNAME:CEST
DTSTART:20160327T010000
END:DAYLIGHT
BEGIN:STANDARD
TZOFFSETFROM:+0200
TZOFFSETTO:+0100
TZNAME:CET
DTSTART:20161030T010000
END:STANDARD
BEGIN:DAYLIGHT
TZOFFSETFROM:+0100
TZOFFSETTO:+0200
TZNAME:CEST
DTSTART:20170326T010000
END:DAYLIGHT
BEGIN:STANDARD
TZOFFSETFROM:+0200
TZOFFSETTO:+0100
TZNAME:CET
DTSTART:20171029T010000
END:STANDARD
BEGIN:DAYLIGHT
TZOFFSETFROM:+0100
TZOFFSETTO:+0200
TZNAME:CEST
DTSTART:20180325T010000
END:DAYLIGHT
BEGIN:STANDARD
TZOFFSETFROM:+0200
TZOFFSETTO:+0100
TZNAME:CET
DTSTART:20181028T010000
END:STANDARD
BEGIN:DAYLIGHT
TZOFFSETFROM:+0100
TZOFFSETTO:+0200
TZNAME:CEST
DTSTART:20190331T010000
END:DAYLIGHT
BEGIN:STANDARD
TZOFFSETFROM:+0200
TZOFFSETTO:+0100
TZNAME:CET
DTSTART:20191027T010000
END:STANDARD
BEGIN:DAYLIGHT
TZOFFSETFROM:+0100
TZOFFSETTO:+0200
TZNAME:CEST
DTSTART:20200329T010000
END:DAYLIGHT
BEGIN:STANDARD
TZOFFSETFROM:+0200
TZOFFSETTO:+0100
TZNAME:CET
DTSTART:20201025T010000
END:STANDARD
BEGIN:DAYLIGHT
TZOFFSETFROM:+0100
TZOFFSETTO:+0200
TZNAME:CEST
DTSTART:20210328T010000
END:DAYLIGHT
BEGIN:STANDARD
TZOFFSETFROM:+0200
TZOFFSETTO:+0100
TZNAME:CET
DTSTART:20211031T010000
END:STANDARD
BEGIN:DAYLIGHT
TZOFFSETFROM:+0100
TZOFFSETTO:+0200
TZNAME:CEST
DTSTART:20220327T010000
END:DAYLIGHT
BEGIN:STANDARD
TZOFFSETFROM:+0200
TZOFFSETTO:+0100
TZNAME:CET
DTSTART:20221030T010000
END:STANDARD
END:VTIMEZONE
BEGIN:VEVENT
DTSTART;TZID=Europe/Berlin:20220709T183000
DTEND;TZID=Europe/Berlin:20220709T213000
DTSTAMP:20260420T074831
CREATED:20200717T102903Z
LAST-MODIFIED:20220701T091531Z
UID:2163-1657391400-1657402200@ck-domstadt-hotels.de
SUMMARY:OPEN AIR am Lindenring
DESCRIPTION:LIVE MUSIK ZUM UTA TREFFEN \nam Samstag 09. Juli 2021 ab 18:30 Uhr \nLive-Musik mit Heinz Solo \nim Biergarten vom Hotel Zur Alten Schmiede. \nGenießen Sie einen Abend bei gutem Essen und Live-Musik der 90er Jahre. \nReservierungen bitte unter: 03445  26 10 80
URL:https://ck-domstadt-hotels.de/termin/open-air-am-lindenring/
LOCATION:Hotel Zur Alten Schmiede\, Lindenring 36\, Naumburg\, Sachsen Anhalt\, 06618\, Deutschland
ATTACH;FMTTYPE=image/jpeg:https://ck-domstadt-hotels.de/inhalte/uploads/DSC2539.jpg
ORGANIZER;CN="CK Domstadt-Hotels GmbH & Co. KG":MAILTO:reservierung@ck-domstadt-hotels.de
END:VEVENT
BEGIN:VEVENT
DTSTART;TZID=Europe/Berlin:20220214T180000
DTEND;TZID=Europe/Berlin:20220214T213000
DTSTAMP:20260420T074831
CREATED:20220127T125208Z
LAST-MODIFIED:20220127T125319Z
UID:2265-1644861600-1644874200@ck-domstadt-hotels.de
SUMMARY:Valentinstag
DESCRIPTION:Genießen Sie am Montag\, den 14.02.2022 gemeinsam mit Ihrem Schatz eine kulinarische Europareise im Restaurant vom Hotel Zur Alten Schmiede. \nWir servieren ein 4-Gang-Menü mit Begrüßungssekt und korrespondierenden Weinen. \nPreis: 55\,00 € pro Person \nReservierungen bitte unter: 03445 – 26 10 80.
URL:https://ck-domstadt-hotels.de/termin/valentinstag-4/
LOCATION:Hotel Zur Alten Schmiede\, Lindenring 36\, Naumburg\, Sachsen Anhalt\, 06618\, Deutschland
ATTACH;FMTTYPE=image/jpeg:https://ck-domstadt-hotels.de/inhalte/uploads/DSC1879-2.jpg
END:VEVENT
BEGIN:VEVENT
DTSTART;VALUE=DATE:20211111
DTEND;VALUE=DATE:20211224
DTSTAMP:20260420T074831
CREATED:20211107T215448Z
LAST-MODIFIED:20211107T215529Z
UID:2251-1636588800-1640303999@ck-domstadt-hotels.de
SUMMARY:Martinsgansessen
DESCRIPTION:Genießen Sie gemeinsam mit Familie und Freunden ein Martinsgans-Menü der besonderen Art. \nWildgeflügelbrühe\nmit Entenravioli und Gemüse \n***\nMartinsgans\nmit getrocknetem Obst und Geflügelhackfleisch gefüllt\,\ndazu servieren wir Preiselbeerrotkohl und Speckrosenkohl\, Thüringer Klöße und Salzkartoffeln \n***\nLebkucheneis\nmit warmen Zimtpflaumen \nPreis: 35\,00 € pro Person (eine ganze Gans ist buchbar ab 4 Personen)\nunter 4 Personen servieren wir im Hauptgang Gänsebrust oder Gänsekeule
URL:https://ck-domstadt-hotels.de/termin/martinsgansessen/
LOCATION:Hotel Zur Alten Schmiede\, Lindenring 36\, Naumburg\, Sachsen Anhalt\, 06618\, Deutschland
ATTACH;FMTTYPE=image/jpeg:https://ck-domstadt-hotels.de/inhalte/uploads/MAtrinsgans_2021-e1636321118272.jpg
ORGANIZER;CN="CK Domstadt-Hotels GmbH & Co. KG":MAILTO:reservierung@ck-domstadt-hotels.de
END:VEVENT
BEGIN:VEVENT
DTSTART;TZID=Europe/Berlin:20211110T180000
DTEND;TZID=Europe/Berlin:20211110T213000
DTSTAMP:20260420T074831
CREATED:20211107T221706Z
LAST-MODIFIED:20211107T221706Z
UID:2255-1636567200-1636579800@ck-domstadt-hotels.de
SUMMARY:LITERARISCHES MARTINGS-GÄNSEESSEN
DESCRIPTION:„Hinterhofrevue“ – Autorenlesung mit Detlef Färber \nKönigs Hof muss kein Königshof sein. Und ist es schon gar nicht\, wenn Königs im Hinterhaus wohnen oder Königs Kinder im Hinterhof spielen und sich dabei weder höfisch noch höflich benehmen. Umso mehr lohnt sich hier eine Art Hofberichterstattung. Und noch  mehr\, lohnt es sich\, die fast schon untergegangene Welt der Höfe in Gründerzeitquartieren der Kleinstädte und Vorstädte zwischen den Schornsteinen der alten Industriegebiete dem Vergessen zu entreißen. \nDer Autor Detlef Färber hat Kindheitsgeschichten aus Dorf- und Kiez-Milieus des Ostens in der Zeit nach dem Mauerbau mit Jugendimpressionen von fast noch Zille-originalen Berliner Hinterhöfen aus der Zeit des Mauerfalls um 1989 kombiniert und bittet deren Figuren in seiner literarischen „Hinterhofrevue“ zum Tanz. Seine skurrilen Typen und ihr  Handel und Wandel in der Enge dieser dem Verfall preisgegebenen Viertel lassen zwar keine Nostalgie aufkommen\, wohl aber etwas Wehmut: Wehmut angesichts dessen\, was ein technisch optimiertes Alltagsleben an menschlichen Fehlstellen längst schon offenbart. \nServiert wird ein 3-Gänge-Martinsgansmenü mit Vorsuppe und Dessert | Kosten 35\,00 € p.P. (exkl. Getränke)\nAnmeldung erforderlich
URL:https://ck-domstadt-hotels.de/termin/literarisches-martings-gaenseessen/
LOCATION:Hotel Zur Alten Schmiede\, Lindenring 36\, Naumburg\, Sachsen Anhalt\, 06618\, Deutschland
ATTACH;FMTTYPE=image/jpeg:https://ck-domstadt-hotels.de/inhalte/uploads/literarisches-Martingsgansessen.jpg
ORGANIZER;CN="CK Domstadt-Hotels GmbH & Co. KG":MAILTO:reservierung@ck-domstadt-hotels.de
END:VEVENT
BEGIN:VEVENT
DTSTART;TZID=Europe/Berlin:20211029T190000
DTEND;TZID=Europe/Berlin:20211029T213000
DTSTAMP:20260420T074831
CREATED:20211026T093336Z
LAST-MODIFIED:20211026T113256Z
UID:2246-1635534000-1635543000@ck-domstadt-hotels.de
SUMMARY:Lesung und Gespräch mit Sabine Platz
DESCRIPTION:Sabine Platz – Im Garten \nZwischen Knolle und Kompost liegt das ganze Leben.\nGeschichten von Gärten und Menschen \nSabine Platz begeistert im ZDF Morgenmagazin mit ihrer Rubrik “Platz im Garten” schon lange mit Berichten rund um den Garten. Auf ihren Reisen durch die Republik spürt sie regelmäßig die spannendsten\, berührendsten und innovativsten Gartengeschichten auf. In ihrem ersten Buch Im Garten. Zwischen Knolle und Kompost liegt das ganze Leben erzählt sie von bezeubernden Gärten\, beeindruckenden menschen und ihrer Liebe zur Natur. \nErleben Sie Sabine Platz live bei uns im Burgenlandsaal vom Hotel Zur Alten Schmiede lauschen Sie ihren Geschichten und genießen dazu Köstlichkeiten aus Küche und Keller.
URL:https://ck-domstadt-hotels.de/termin/lesung-und-gespraech-mit-sabine-platz/
LOCATION:Hotel Zur Alten Schmiede\, Lindenring 36\, Naumburg\, Sachsen Anhalt\, 06618\, Deutschland
ATTACH;FMTTYPE=image/jpeg:https://ck-domstadt-hotels.de/inhalte/uploads/211029_LESUNG_WEB.jpg
ORGANIZER;CN="CK Domstadt-Hotels GmbH & Co. KG":MAILTO:reservierung@ck-domstadt-hotels.de
END:VEVENT
BEGIN:VEVENT
DTSTART;VALUE=DATE:20200411
DTEND;VALUE=DATE:20200415
DTSTAMP:20260420T074831
CREATED:20200217T220048Z
LAST-MODIFIED:20200217T220048Z
UID:2144-1586563200-1586908799@ck-domstadt-hotels.de
SUMMARY:Ostern
DESCRIPTION:10. April – Karfreitag \n2-Gang-Fischmenü in unserem Restaurant \nPreis: 21\,00 € pro Person \n12. April – Ostersonntag \nklassisches 3-Gang-Ostermenü \nPreis: 25\,00 € pro Person inkl. einem Gläschen Eierlikör
URL:https://ck-domstadt-hotels.de/termin/ostern/
LOCATION:Hotel Zur Alten Schmiede\, Lindenring 36\, Naumburg\, Sachsen Anhalt\, 06618\, Deutschland
ATTACH;FMTTYPE=image/jpeg:https://ck-domstadt-hotels.de/inhalte/uploads/Ostern.jpg
END:VEVENT
BEGIN:VEVENT
DTSTART;VALUE=DATE:20200313
DTEND;VALUE=DATE:20200316
DTSTAMP:20260420T074831
CREATED:20200217T193233Z
LAST-MODIFIED:20200217T193958Z
UID:2141-1584057600-1584316799@ck-domstadt-hotels.de
SUMMARY:Uta - Treffen in Naumburg
DESCRIPTION:Für alle Namensvettern der Stifterfiguren des Naumburger Doms bieten wir ein speziell zusammengestelltes Uta-Menü an. \nPreis: 28\,00 € pro Person (3-Gang-Menü inkl. einem Glas Haussekt)
URL:https://ck-domstadt-hotels.de/termin/uta-treffen-in-naumburg/
LOCATION:Hotel Zur Alten Schmiede\, Lindenring 36\, Naumburg\, Sachsen Anhalt\, 06618\, Deutschland
ATTACH;FMTTYPE=image/jpeg:https://ck-domstadt-hotels.de/inhalte/uploads/Uta-Treffen.jpg
ORGANIZER;CN="CK Domstadt-Hotels GmbH & Co. KG":MAILTO:reservierung@ck-domstadt-hotels.de
END:VEVENT
BEGIN:VEVENT
DTSTART;TZID=Europe/Berlin:20200308T123000
DTEND;TZID=Europe/Berlin:20200308T210000
DTSTAMP:20260420T074831
CREATED:20200217T190914Z
LAST-MODIFIED:20200219T131346Z
UID:2135-1583670600-1583701200@ck-domstadt-hotels.de
SUMMARY:Frauentag
DESCRIPTION:Genießen Sie mit Ihren Freundinnen oder Kolleginnen den Frauentag bei uns im Restaurant. \nEin 3-Gang-Menü mit Begrüßungssekt und ein Glas Wein zum Hauptgang. Weiterhin bekommt jede Frau bei uns eine Rose geschenkt. \nPreis: 35\,50 € p. P. inkl. Menü\, Begrüßungssekt und Wein zum Hauptgang \n 
URL:https://ck-domstadt-hotels.de/termin/frauentag/
LOCATION:Hotel Zur Alten Schmiede\, Lindenring 36\, Naumburg\, Sachsen Anhalt\, 06618\, Deutschland
ATTACH;FMTTYPE=image/jpeg:https://ck-domstadt-hotels.de/inhalte/uploads/Mein-Beitrag-2.jpg
ORGANIZER;CN="CK Domstadt-Hotels GmbH & Co. KG":MAILTO:reservierung@ck-domstadt-hotels.de
END:VEVENT
BEGIN:VEVENT
DTSTART;TZID=Europe/Berlin:20200214T183000
DTEND;TZID=Europe/Berlin:20200214T213000
DTSTAMP:20260420T074831
CREATED:20200209T210945Z
LAST-MODIFIED:20200209T211143Z
UID:2104-1581705000-1581715800@ck-domstadt-hotels.de
SUMMARY:Valentinstag
DESCRIPTION:Genießen Sie zum Valentinstag mit Ihrem Schatz zusammen eine kulinarische Europareise in unserem Restaurant.\nDie Vorspeise französisch\, die Suppe aus Italien\, der Hauptgang spanisch und das Dessert kommt aus Österreich. \nWir servieren ein 4-Gang-Menü mit Begrüßungssekt und korrespondierenden Weinen. \nPreis: 49\,90 € pro Person \nReservierungen nehmen wir gern unter unserer Buchungshotline: 03445 – 26 10 80 entgegen.
URL:https://ck-domstadt-hotels.de/termin/valentinstag-3/
LOCATION:Hotel Zur Alten Schmiede\, Lindenring 36\, Naumburg\, Sachsen Anhalt\, 06618\, Deutschland
ATTACH;FMTTYPE=image/jpeg:https://ck-domstadt-hotels.de/inhalte/uploads/love-1951386_1920.jpg
END:VEVENT
BEGIN:VEVENT
DTSTART;TZID=Europe/Berlin:20180214T180000
DTEND;TZID=Europe/Berlin:20180214T230000
DTSTAMP:20260420T074831
CREATED:20180122T114147Z
LAST-MODIFIED:20180122T114419Z
UID:1829-1518631200-1518649200@ck-domstadt-hotels.de
SUMMARY:Valentinstag
DESCRIPTION:Zum Valentinstag etwas Besonderes… \nRomantisches 3-Gang-Menü inkl. 1 Glas Sekt pro Person in unserem Restaurant vom Hotel Zur Alten Schmiede.
URL:https://ck-domstadt-hotels.de/termin/valentinstag-2/
LOCATION:Sachsen Anhalt
ATTACH;FMTTYPE=image/jpeg:https://ck-domstadt-hotels.de/inhalte/uploads/IMAG0118_klein.jpg
ORGANIZER;CN="Restaurant Zur Alten Schmiede":MAILTO:reservierung@ck-domstadt-hotels.de
END:VEVENT
BEGIN:VEVENT
DTSTART;TZID=Europe/Berlin:20180121T160000
DTEND;TZID=Europe/Berlin:20180121T183000
DTSTAMP:20260420T074831
CREATED:20171221T103536Z
LAST-MODIFIED:20171221T104412Z
UID:1814-1516550400-1516559400@ck-domstadt-hotels.de
SUMMARY:Erbschleicherei - eine heitere Rechtsberatung
DESCRIPTION:Wussten Sie eigentlich\, dass Erbschleicherei gar nicht strafbar ist? \nDieser und noch viel größere Irrtümer im Erbrecht werden in diesem Programm aufgeklärt. Schmunzeln Sie über kuriose Nachlassfälle und begleiten Sie manche unserer Promis auf dem Weg zu ihrem Erbe. \nErleben Sie amüsante Kleinkunst zum Mitdenken…
URL:https://ck-domstadt-hotels.de/termin/erbschleicherei-eine-heitere-rechtsberatung-2/
LOCATION:Hotel Zur Alten Schmiede\, Lindenring 36\, Naumburg\, Sachsen Anhalt\, 06618\, Deutschland
END:VEVENT
BEGIN:VEVENT
DTSTART;TZID=Europe/Berlin:20180120T190000
DTEND;TZID=Europe/Berlin:20180120T213000
DTSTAMP:20260420T074831
CREATED:20171221T103250Z
LAST-MODIFIED:20171221T103306Z
UID:1810-1516474800-1516483800@ck-domstadt-hotels.de
SUMMARY:Erbschleicherei - eine heitere Rechtsberatung
DESCRIPTION:Wussten Sie eigentlich\, dass Erbschleicherei gar nicht strafbar ist? \nDieser und noch viel größere Irrtümer im Erbrecht werden in diesem Programm aufgeklärt. Schmunzeln Sie über kuriose Nachlassfälle und begleiten Sie manche unserer Promis auf dem Weg zu ihrem Erbe. \nErleben Sie amüsante Kleinkunst zum Mitdenken…
URL:https://ck-domstadt-hotels.de/termin/erbschleicherei-eine-heitere-rechtsberatung/
LOCATION:Hotel Zur Alten Schmiede\, Lindenring 36\, Naumburg\, Sachsen Anhalt\, 06618\, Deutschland
END:VEVENT
BEGIN:VEVENT
DTSTART;TZID=Europe/Berlin:20180112T193000
DTEND;TZID=Europe/Berlin:20180112T220000
DTSTAMP:20260420T074831
CREATED:20171221T104250Z
LAST-MODIFIED:20171221T104400Z
UID:1817-1515785400-1515794400@ck-domstadt-hotels.de
SUMMARY:Norwegen & Schweden
DESCRIPTION:eine Live-Multivisionsshow von Sandra Butscheike und Steffen Mender \nZahlreiche Reisen führten beide nach Norwegen und Schweden. Immer wieder zieht sie die unendliche Weite\, die Stille und die Kraft der Elemente in ihren Bann. Reisen Sie mit den Beiden vom Süden bis hinauf zum Nordkap und erleben Sie die Magie des hohen Nordens zu allen Jahreszeiten. \nBrillant fotografiert und mit Videosequenzen bereichert\, präsentieren die Fotojournalisten eine der eindrucksvollsten Regionen dieser Erde in HDAV Qualität
URL:https://ck-domstadt-hotels.de/termin/norwegen-schweden/
LOCATION:Hotel Zur Alten Schmiede\, Lindenring 36\, Naumburg\, Sachsen Anhalt\, 06618\, Deutschland
END:VEVENT
BEGIN:VEVENT
DTSTART;TZID=Europe/Berlin:20171119T190000
DTEND;TZID=Europe/Berlin:20171119T213000
DTSTAMP:20260420T074831
CREATED:20170901T070027Z
LAST-MODIFIED:20170901T072726Z
UID:1729-1511118000-1511127000@ck-domstadt-hotels.de
SUMMARY:Kabarett im Burgenlandsaal
DESCRIPTION:DIE ZEIT VERLANGT’S \nGisela Oechelhaeuser! Das sind 37 Jahre Kabarett- das ist das Erleben von zwei Gesellschaften mit nur einem Leben! Der Störsender Gisela Oechelhaeuser macht ein Best-of-Programm? Die Zeit verlangt’s! \nNix mit aufwärmen! Aber warum neue Texte\, wenn die alten immer aktueller werden? Warum neue Figuren\, wenn die Menschen bleiben\, wie sie sind? \nEin neuer Blick auf Altes ist ein alter Blick auf Neues. Und wem das zu philosophisch ist\, der freut sich auf Hildchen Waldmeister\, die gestern mit ihrem Schnaps die Mauer einstürzen ließ… auf die 99-jährige Adelheid Müller\, die morgen mit ihrem Eierlikör den Kapitalismus besiegt…und auf die LIDL-Verkäuferin Valentina\, die schon heute trocken feststellt\, dass es eben so ist wie ist\, weil es eben so ist wie es ist.Ein Best-of? Eine Reprise? Eine Wiederholung? Denkste! Gisela Oechelhaeuser!Die Zeit verlangt’s!
URL:https://ck-domstadt-hotels.de/termin/kabarett-im-burgenlandsaal/
LOCATION:Hotel Zur Alten Schmiede\, Lindenring 36\, Naumburg\, Sachsen Anhalt\, 06618\, Deutschland
ATTACH;FMTTYPE=image/jpeg:https://ck-domstadt-hotels.de/inhalte/uploads/37a010_0af6c28d59c143eaa81c0acfd4d059c1.jpg
END:VEVENT
BEGIN:VEVENT
DTSTART;TZID=Europe/Berlin:20171008T170000
DTEND;TZID=Europe/Berlin:20171008T190000
DTSTAMP:20260420T074831
CREATED:20170828T112254Z
LAST-MODIFIED:20170922T081045Z
UID:1675-1507482000-1507489200@ck-domstadt-hotels.de
SUMMARY:Wladiwostok
DESCRIPTION:LIVE-DIA-SHOW\nMIT THOMAS MEIXNER\, \ndem Weltenradler aus Sachsen Anhalt. \nWladiwostok mit dem Fahrrad der Sonne entgegen. \nThomas Meixner fuhr von seiner Heimat in Sachsen Anhalt bis in den fernen Osten Rußlands – 16 600 km voller atemberaubender Landschaften\, Geschichten und Gastfreundschaft. Er durchquerte Polen\, die Ukraine\, Moldawien\, Kasachstan und Russland bis nach Wladiwostok. Nach einem Abstecher nach Japan reiste er mit der legendären tanssibirischen Eisenbahn heimwärts. \nSeine Bilder erzählen eindrücklich von den Erfahrungen und Abenteuern aus einem faszinierenden Winkel unserer Erde. Untermalt ist die spannende Multivisionsshow mit einem Live-Kommentar und atmosphärischen Originalaufnahmen. \nKarten sind zum Preis von 9\,00 € erhältlich. Abendkasse 10\,00 €
URL:https://ck-domstadt-hotels.de/termin/wladiwostock/
LOCATION:Hotel Zur Alten Schmiede\, Lindenring 36\, Naumburg\, Sachsen Anhalt\, 06618\, Deutschland
ATTACH;FMTTYPE=image/jpeg:https://ck-domstadt-hotels.de/inhalte/uploads/Wladiwostock.jpg
ORGANIZER;CN="Welten-Radler Thomas Meixner":MAILTO:info@thomasmeixner.de
END:VEVENT
BEGIN:VEVENT
DTSTART;TZID=Europe/Berlin:20170408T173000
DTEND;TZID=Europe/Berlin:20170408T213000
DTSTAMP:20260420T074831
CREATED:20170305T163859Z
LAST-MODIFIED:20170305T163859Z
UID:1473-1491672600-1491687000@ck-domstadt-hotels.de
SUMMARY:Klangzeit - Menü
DESCRIPTION:Auch am 08.04.2017 bietet Ihnen unser Küchenchef das passende Menü zur Klangzeitveranstaltung. Genießen Sie vor dem Konzert ein exzellentes 3-GangMenü. \n„Naumburger Klaviermusik“\nIrina Krümmling – Klavier\nWerke von Otto Claudius\, über Louise Hänel de Cronenthall bis Reinhard Ohse \nPreis: 36\,00 € pro Person\ninkl. Eintritt für das Konzert
URL:https://ck-domstadt-hotels.de/termin/klangzeit-menue-3/
LOCATION:Sachsen Anhalt
ATTACH;FMTTYPE=:
END:VEVENT
BEGIN:VEVENT
DTSTART;TZID=Europe/Berlin:20170311T173000
DTEND;TZID=Europe/Berlin:20170311T213000
DTSTAMP:20260420T074831
CREATED:20170305T162314Z
LAST-MODIFIED:20170305T162314Z
UID:1469-1489253400-1489267800@ck-domstadt-hotels.de
SUMMARY:Klangzeit-Menü
DESCRIPTION:Vor der Kammermusik genießen Sie eine kulinarische Komposition in unserem Restaurant – ein 3-Gang-menü abgestimmt von unserem Küchenchef auf das musikalische Thema. \n„Acht Jahreszeiten“\nADUMÁ-Saxophonquartett\nThomas Möckel – Klavier\nWerke von Antonio Vivaldi und Astor Piazzolla \nPreis: 36\,00 € pro Person\ninkl. Eintritt für das Konzert
URL:https://ck-domstadt-hotels.de/termin/klangzeit-menue-2/
LOCATION:Sachsen Anhalt
ATTACH;FMTTYPE=:
END:VEVENT
BEGIN:VEVENT
DTSTART;TZID=Europe/Berlin:20170224T193000
DTEND;TZID=Europe/Berlin:20170224T213000
DTSTAMP:20260420T074831
CREATED:20161216T092926Z
LAST-MODIFIED:20161216T092926Z
UID:1338-1487964600-1487971800@ck-domstadt-hotels.de
SUMMARY:Südtirol
DESCRIPTION:Eine Multivisionsshow aus der Reiseshowreihe “Wunder Erde” präsentiert von Fotojounalist Roland Kock in unserem Burgenlandsaal vom **** Hotel Zur Alten Schmiede. \nEintrittskarten erhalten Sie an der Rezeption. \nVK:  14\,00 € (Kinder 6\,00 €)
URL:https://ck-domstadt-hotels.de/termin/suedtirol/
LOCATION:Sachsen Anhalt
ATTACH;FMTTYPE=:
END:VEVENT
BEGIN:VEVENT
DTSTART;TZID=Europe/Berlin:20170214T170000
DTEND;TZID=Europe/Berlin:20170214T220000
DTSTAMP:20260420T074831
CREATED:20170206T071907Z
LAST-MODIFIED:20170206T071907Z
UID:1424-1487091600-1487109600@ck-domstadt-hotels.de
SUMMARY:Valentinstag
DESCRIPTION:Überraschen Sie Ihren Schatz mit einem romantischen 3-Gang Menü in unserem Restaurant vom **** Hotel Zur Alten Schmiede \nTwingelpreis: 59\,00 € inkl. einem Glas Sekt
URL:https://ck-domstadt-hotels.de/termin/valentinstag/
LOCATION:Sachsen Anhalt
ATTACH;FMTTYPE=:
END:VEVENT
BEGIN:VEVENT
DTSTART;TZID=Europe/Berlin:20170210T190000
DTEND;TZID=Europe/Berlin:20170210T210000
DTSTAMP:20260420T074831
CREATED:20161216T093755Z
LAST-MODIFIED:20161216T093755Z
UID:1340-1486753200-1486760400@ck-domstadt-hotels.de
SUMMARY:Siebenbürgen
DESCRIPTION:Magisches Land mit mehr als sieben Burgen… \nEine Multivisionsshow des Reisejounalisten Jan Hübler über eine\nMotorrad- & Fahrradtour durch traumhafte Landschaften Rumäniens. \nPräsentiert im Burgenlandsaal vom **** Hotel Zur Alten Schmiede. \nReservierungen bitte über die Rezeption.
URL:https://ck-domstadt-hotels.de/termin/siebenbuergen/
LOCATION:Sachsen Anhalt
ATTACH;FMTTYPE=:
END:VEVENT
BEGIN:VEVENT
DTSTART;TZID=Europe/Berlin:20161013T193000
DTEND;TZID=Europe/Berlin:20161013T213000
DTSTAMP:20260420T074831
CREATED:20161004T081201Z
LAST-MODIFIED:20161004T081201Z
UID:1263-1476387000-1476394200@ck-domstadt-hotels.de
SUMMARY:AFRIKA - mit dem Fahrrad unterwegs nach Kapstadt
DESCRIPTION:Live-Dia-Show mit Thomas Meixner dem Weltenradler aus Sachsen-Anhalt
URL:https://ck-domstadt-hotels.de/termin/afrika-mit-dem-fahrrad-unterwegs-nach-kapstadt/
LOCATION:Sachsen Anhalt
END:VEVENT
BEGIN:VEVENT
DTSTART;TZID=Europe/Berlin:20161008T173000
DTEND;TZID=Europe/Berlin:20161008T220000
DTSTAMP:20260420T074831
CREATED:20160422T084459Z
LAST-MODIFIED:20160422T084459Z
UID:1044-1475947800-1475964000@ck-domstadt-hotels.de
SUMMARY:Klangzeit - Menü
DESCRIPTION:Vor der Kammermusik genießen sie eine kulinarische Komposition von unserem Küchenchef Christian Höfs.\nEin 3-Gang-Menü speziell auf das Klangzeitthema. \nIm Menüpreis ist der Eintritt für das Konzert enthalten. \nDas Programm zur Klangzeitreih Herbst/Winter 2016 veröffentlichen wir hier demnächst.
URL:https://ck-domstadt-hotels.de/termin/klangzeit-menue/
LOCATION:Sachsen Anhalt
END:VEVENT
BEGIN:VEVENT
DTSTART;VALUE=DATE:20160901
DTEND;VALUE=DATE:20161001
DTSTAMP:20260420T074831
CREATED:20160422T090142Z
LAST-MODIFIED:20160422T090142Z
UID:1046-1472688000-1475279999@ck-domstadt-hotels.de
SUMMARY:Die Pfifferlingszeit...
DESCRIPTION:Pfifferlinge in beliebten und in völlig neuen Zusammenstellungen werden auf unserer Sonderkarte im September präsentiert.
URL:https://ck-domstadt-hotels.de/termin/die-pfifferlingszeit/
LOCATION:Sachsen Anhalt
CATEGORIES:Sonderkarte
END:VEVENT
BEGIN:VEVENT
DTSTART;VALUE=DATE:20160901
DTEND;VALUE=DATE:20161001
DTSTAMP:20260420T074831
CREATED:20160422T082215Z
LAST-MODIFIED:20160422T082215Z
UID:1040-1472688000-1475279999@ck-domstadt-hotels.de
SUMMARY:Deftiges mit Pfiff...
DESCRIPTION:Das Thema im September in unserem Restaurant ist der Pfifferling. Wir servieren den ausschließlich im Wald wachsenden Pilz in klassischen und deftigen Gerichten.
URL:https://ck-domstadt-hotels.de/termin/deftiges-mit-pfiff/
LOCATION:Sachsen Anhalt
END:VEVENT
BEGIN:VEVENT
DTSTART;TZID=Europe/Berlin:20160807T100000
DTEND;TZID=Europe/Berlin:20160807T140000
DTSTAMP:20260420T074831
CREATED:20160422T085013Z
LAST-MODIFIED:20160422T085013Z
UID:1045-1470564000-1470578400@ck-domstadt-hotels.de
SUMMARY:Tanz & Brunch
DESCRIPTION:Jive\, Swing & Rock´n Roll für Anfänger und Neugierige\, dazu ein exklusives Mittagsbuffet.\nInfos erhalten Sie unter www.tanzen-naumburg.de
URL:https://ck-domstadt-hotels.de/termin/tanz-brunch-2/
LOCATION:Sachsen Anhalt
END:VEVENT
BEGIN:VEVENT
DTSTART;VALUE=DATE:20160801
DTEND;VALUE=DATE:20160901
DTSTAMP:20260420T074832
CREATED:20160419T123354Z
LAST-MODIFIED:20160419T123354Z
UID:1032-1470009600-1472687999@ck-domstadt-hotels.de
SUMMARY:Hochgenuss: Trüffel
DESCRIPTION:Unser Küchenchef präsentiert auf einer Sonderkarte verschiedene Varianten dieses delikaten Pilzes.
URL:https://ck-domstadt-hotels.de/termin/hochgenuss-trueffel/
LOCATION:Sachsen Anhalt
END:VEVENT
BEGIN:VEVENT
DTSTART;TZID=Europe/Berlin:20160710T100000
DTEND;TZID=Europe/Berlin:20160710T140000
DTSTAMP:20260420T074832
CREATED:20160419T123025Z
LAST-MODIFIED:20160419T123025Z
UID:1028-1468144800-1468159200@ck-domstadt-hotels.de
SUMMARY:Tanz & Brunch
DESCRIPTION:Walzer und Discofox für Anfänger und Neugierige dazu ein exklusives Mittagsbuffet
URL:https://ck-domstadt-hotels.de/termin/tanz-brunch/
LOCATION:Sachsen Anhalt
END:VEVENT
BEGIN:VEVENT
DTSTART;VALUE=DATE:20160701
DTEND;VALUE=DATE:20160801
DTSTAMP:20260420T074832
CREATED:20160419T122529Z
LAST-MODIFIED:20160419T122529Z
UID:1025-1467331200-1470009599@ck-domstadt-hotels.de
SUMMARY:Sommerkarte
DESCRIPTION:Unser Küchenchef Christian Höfs präsentiert eine Speisekarte mit kalten Gerichten für heiße Tage.
URL:https://ck-domstadt-hotels.de/termin/sommerkarte/
LOCATION:Sachsen Anhalt
END:VEVENT
BEGIN:VEVENT
DTSTART;VALUE=DATE:20160626
DTEND;VALUE=DATE:20160627
DTSTAMP:20260420T074832
CREATED:20160419T121743Z
LAST-MODIFIED:20160419T121743Z
UID:1024-1466899200-1466985599@ck-domstadt-hotels.de
SUMMARY:Peter - Pauls - Messe
DESCRIPTION:In diesem Jahr führt die Messe entlang des Lindenrings.\nViele Händler präsentieren vor unserem Hotel Ihre Waren und Künste.\nWir halten für Sie Leckereien vom Holzkohlegrill und erfrischende Getränke bereit.
URL:https://ck-domstadt-hotels.de/termin/peter-pauls-messe/
LOCATION:Sachsen Anhalt
END:VEVENT
BEGIN:VEVENT
DTSTART;VALUE=DATE:20160625
DTEND;VALUE=DATE:20160627
DTSTAMP:20260420T074832
CREATED:20160422T080722Z
LAST-MODIFIED:20160422T080722Z
UID:1039-1466812800-1466985599@ck-domstadt-hotels.de
SUMMARY:Kirschfest
DESCRIPTION:Zum Fest was Zünftiges vom Holzkohlegrill. Gegen den Kirschfesthunger bieten wir Ihnen Steaks nach Mutzbraten Art\, Spareribs und Thüringer Bratwurst auf unserer Freifläche (direkt auf dem Naumburger Marktplatz) an. Gegen den großen Durst zapfen wir Ihnen gern eine Fassbrause.
URL:https://ck-domstadt-hotels.de/termin/kirschfest/
LOCATION:Sachsen Anhalt
END:VEVENT
END:VCALENDAR